BEGIN:VCALENDAR
VERSION:2.0
PRODID:-//Glencove Senior center - ECPv6.15.17.1//NONSGML v1.0//EN
CALSCALE:GREGORIAN
METHOD:PUBLISH
X-WR-CALNAME:Glencove Senior center
X-ORIGINAL-URL:https://glencoveseniorcenter.com
X-WR-CALDESC:Events for Glencove Senior center
REFRESH-INTERVAL;VALUE=DURATION:PT1H
X-Robots-Tag:noindex
X-PUBLISHED-TTL:PT1H
BEGIN:VTIMEZONE
TZID:America/Chicago
BEGIN:DAYLIGHT
TZOFFSETFROM:-0600
TZOFFSETTO:-0500
TZNAME:CDT
DTSTART:20220313T080000
END:DAYLIGHT
BEGIN:STANDARD
TZOFFSETFROM:-0500
TZOFFSETTO:-0600
TZNAME:CST
DTSTART:20221106T070000
END:STANDARD
BEGIN:DAYLIGHT
TZOFFSETFROM:-0600
TZOFFSETTO:-0500
TZNAME:CDT
DTSTART:20230312T080000
END:DAYLIGHT
BEGIN:STANDARD
TZOFFSETFROM:-0500
TZOFFSETTO:-0600
TZNAME:CST
DTSTART:20231105T070000
END:STANDARD
BEGIN:DAYLIGHT
TZOFFSETFROM:-0600
TZOFFSETTO:-0500
TZNAME:CDT
DTSTART:20240310T080000
END:DAYLIGHT
BEGIN:STANDARD
TZOFFSETFROM:-0500
TZOFFSETTO:-0600
TZNAME:CST
DTSTART:20241103T070000
END:STANDARD
END:VTIMEZONE
BEGIN:VEVENT
DTSTART;TZID=America/Chicago:20230601T100000
DTEND;TZID=America/Chicago:20230601T100000
DTSTAMP:20260422T211332
CREATED:20230625T114524Z
LAST-MODIFIED:20230625T114524Z
UID:10000007-1685613600-1685613600@glencoveseniorcenter.com
SUMMARY:Coffee & Conversation: Pomp & Circumstance
DESCRIPTION:Coffee & Conversation:\nPomp & Circumstance – Graduation traditions\, rituals\, & symbolism
URL:https://glencoveseniorcenter.com/event/coffee-conversation-pomp-circumstance/
CATEGORIES:ADP Events
END:VEVENT
BEGIN:VEVENT
DTSTART;TZID=America/Chicago:20230601T110000
DTEND;TZID=America/Chicago:20230601T110000
DTSTAMP:20260422T211332
CREATED:20230625T114551Z
LAST-MODIFIED:20230625T114551Z
UID:10000008-1685617200-1685617200@glencoveseniorcenter.com
SUMMARY:Exercise: Aerobicize w/ Agatha
DESCRIPTION:
URL:https://glencoveseniorcenter.com/event/exercise-aerobicize-w-agatha/
CATEGORIES:ADP Events
END:VEVENT
BEGIN:VEVENT
DTSTART;TZID=America/Chicago:20230601T120000
DTEND;TZID=America/Chicago:20230601T120000
DTSTAMP:20260422T211332
CREATED:20230625T114613Z
LAST-MODIFIED:20230625T114613Z
UID:10000009-1685620800-1685620800@glencoveseniorcenter.com
SUMMARY:Lunch\, music\, & a Spelling Bee
DESCRIPTION:
URL:https://glencoveseniorcenter.com/event/lunch-music-a-spelling-bee/
CATEGORIES:ADP Events
END:VEVENT
BEGIN:VEVENT
DTSTART;TZID=America/Chicago:20230601T130000
DTEND;TZID=America/Chicago:20230601T140000
DTSTAMP:20260422T211332
CREATED:20230625T114649Z
LAST-MODIFIED:20230625T114649Z
UID:10000010-1685624400-1685628000@glencoveseniorcenter.com
SUMMARY:End of Day: Graduation Party
DESCRIPTION:End of Day: Graduation Party – mortar board & tassel designs\, followed by a” Graduation Word Builder” game
URL:https://glencoveseniorcenter.com/event/end-of-day-graduation-party/
CATEGORIES:ADP Events
END:VEVENT
BEGIN:VEVENT
DTSTART;TZID=America/Chicago:20230602T100000
DTEND;TZID=America/Chicago:20230602T100000
DTSTAMP:20260422T211332
CREATED:20230625T114726Z
LAST-MODIFIED:20230625T114726Z
UID:10000011-1685700000-1685700000@glencoveseniorcenter.com
SUMMARY:Coffee & Conversation: Sweet Relief
DESCRIPTION:Coffee & Conversation:\nSweet Relief – How the donut became a WWII morale booster
URL:https://glencoveseniorcenter.com/event/coffee-conversation-sweet-relief/
CATEGORIES:ADP Events
END:VEVENT
BEGIN:VEVENT
DTSTART;TZID=America/Chicago:20230602T110000
DTEND;TZID=America/Chicago:20230602T110000
DTSTAMP:20260422T211332
CREATED:20230625T114752Z
LAST-MODIFIED:20230625T114752Z
UID:10000012-1685703600-1685703600@glencoveseniorcenter.com
SUMMARY:Expressive Art: Donut designs
DESCRIPTION:
URL:https://glencoveseniorcenter.com/event/expressive-art-donut-designs/
CATEGORIES:ADP Events
END:VEVENT
BEGIN:VEVENT
DTSTART;TZID=America/Chicago:20230602T114500
DTEND;TZID=America/Chicago:20230602T114500
DTSTAMP:20260422T211332
CREATED:20230625T114854Z
LAST-MODIFIED:20230625T114854Z
UID:10000013-1685706300-1685706300@glencoveseniorcenter.com
SUMMARY:Brain Game: “Food” Crossword
DESCRIPTION:
URL:https://glencoveseniorcenter.com/event/brain-game-food-crossword/
CATEGORIES:ADP Events
END:VEVENT
BEGIN:VEVENT
DTSTART;TZID=America/Chicago:20230602T120000
DTEND;TZID=America/Chicago:20230602T120000
DTSTAMP:20260422T211332
CREATED:20230625T114928Z
LAST-MODIFIED:20230625T114928Z
UID:10000014-1685707200-1685707200@glencoveseniorcenter.com
SUMMARY:Lunch\, music\, & a “Sweet Quiz”
DESCRIPTION:
URL:https://glencoveseniorcenter.com/event/lunch-music-a-sweet-quiz/
CATEGORIES:ADP Events
END:VEVENT
BEGIN:VEVENT
DTSTART;TZID=America/Chicago:20230602T130000
DTEND;TZID=America/Chicago:20230602T140000
DTSTAMP:20260422T211332
CREATED:20230625T114959Z
LAST-MODIFIED:20230625T114959Z
UID:10000015-1685710800-1685714400@glencoveseniorcenter.com
SUMMARY:End of Day: Exercise -  Mind & Body Movement w/ Marvin
DESCRIPTION:
URL:https://glencoveseniorcenter.com/event/end-of-day-exercise-mind-body-movement-w-marvin/
CATEGORIES:ADP Events
END:VEVENT
BEGIN:VEVENT
DTSTART;TZID=America/Chicago:20230605T100000
DTEND;TZID=America/Chicago:20230605T100000
DTSTAMP:20260422T211332
CREATED:20230625T115108Z
LAST-MODIFIED:20230625T115108Z
UID:10000016-1685959200-1685959200@glencoveseniorcenter.com
SUMMARY:Coffee & Conversation: Starry Nights
DESCRIPTION:Coffee & Conversation:\nStarry Nights – The magic of the drive-in movies and the great outdoors
URL:https://glencoveseniorcenter.com/event/coffee-conversation-starry-nights/
CATEGORIES:ADP Events
END:VEVENT
BEGIN:VEVENT
DTSTART;TZID=America/Chicago:20230605T110000
DTEND;TZID=America/Chicago:20230605T110000
DTSTAMP:20260422T211332
CREATED:20230625T115136Z
LAST-MODIFIED:20230625T115136Z
UID:10000017-1685962800-1685962800@glencoveseniorcenter.com
SUMMARY:Sign Language Class w/ Mill Neck Manor
DESCRIPTION:
URL:https://glencoveseniorcenter.com/event/sign-language-class-w-mill-neck-manor/
CATEGORIES:ADP Events
END:VEVENT
BEGIN:VEVENT
DTSTART;TZID=America/Chicago:20230605T114500
DTEND;TZID=America/Chicago:20230605T114500
DTSTAMP:20260422T211332
CREATED:20230625T115205Z
LAST-MODIFIED:20230625T115205Z
UID:10000018-1685965500-1685965500@glencoveseniorcenter.com
SUMMARY:Close Caption! Visual storytelling
DESCRIPTION:
URL:https://glencoveseniorcenter.com/event/close-caption-visual-storytelling/
CATEGORIES:ADP Events
END:VEVENT
BEGIN:VEVENT
DTSTART;TZID=America/Chicago:20230605T120000
DTEND;TZID=America/Chicago:20230605T120000
DTSTAMP:20260422T211332
CREATED:20230625T115231Z
LAST-MODIFIED:20230625T115231Z
UID:10000019-1685966400-1685966400@glencoveseniorcenter.com
SUMMARY:Lunch\, music\, & a game of “Making Plans”
DESCRIPTION:
URL:https://glencoveseniorcenter.com/event/lunch-music-a-game-of-making-plans/
CATEGORIES:ADP Events
END:VEVENT
BEGIN:VEVENT
DTSTART;TZID=America/Chicago:20230605T130000
DTEND;TZID=America/Chicago:20230605T140000
DTSTAMP:20260422T211332
CREATED:20230625T115304Z
LAST-MODIFIED:20230625T115304Z
UID:10000020-1685970000-1685973600@glencoveseniorcenter.com
SUMMARY:End of Day: Therapeutic Art
DESCRIPTION:End of Day: Therapeutic Art – Transportation ceramics followed by a game of Jingo
URL:https://glencoveseniorcenter.com/event/end-of-day-therapeutic-art/
CATEGORIES:ADP Events
END:VEVENT
BEGIN:VEVENT
DTSTART;TZID=America/Chicago:20230606T100000
DTEND;TZID=America/Chicago:20230606T100000
DTSTAMP:20260422T211332
CREATED:20230625T115335Z
LAST-MODIFIED:20230625T115335Z
UID:10000021-1686045600-1686045600@glencoveseniorcenter.com
SUMMARY:Coffee & Conversation: Eat the Rainbow
DESCRIPTION:Coffee & Conversation:\nEat the Rainbow – Health benefits of our summer fruits & vegetables
URL:https://glencoveseniorcenter.com/event/coffee-conversation-eat-the-rainbow/
CATEGORIES:ADP Events
END:VEVENT
BEGIN:VEVENT
DTSTART;TZID=America/Chicago:20230606T110000
DTEND;TZID=America/Chicago:20230606T110000
DTSTAMP:20260422T211332
CREATED:20230625T115359Z
LAST-MODIFIED:20230625T115359Z
UID:10000022-1686049200-1686049200@glencoveseniorcenter.com
SUMMARY:Exercise – Zumba w/ Carol
DESCRIPTION:
URL:https://glencoveseniorcenter.com/event/exercise-zumba-w-carol/
CATEGORIES:ADP Events
END:VEVENT
BEGIN:VEVENT
DTSTART;TZID=America/Chicago:20230606T120000
DTEND;TZID=America/Chicago:20230606T120000
DTSTAMP:20260422T211332
CREATED:20230625T115421Z
LAST-MODIFIED:20230625T115421Z
UID:10000023-1686052800-1686052800@glencoveseniorcenter.com
SUMMARY:Lunch\, music\, & a “Common Bonds” teaser
DESCRIPTION:
URL:https://glencoveseniorcenter.com/event/lunch-music-a-common-bonds-teaser/
CATEGORIES:ADP Events
END:VEVENT
BEGIN:VEVENT
DTSTART;TZID=America/Chicago:20230606T130000
DTEND;TZID=America/Chicago:20230606T140000
DTSTAMP:20260422T211332
CREATED:20230625T115453Z
LAST-MODIFIED:20230625T115453Z
UID:10000024-1686056400-1686060000@glencoveseniorcenter.com
SUMMARY:End of Day: Kitchen Adventures
DESCRIPTION:End of Day: Kitchen Adventures –\nFruit smoothies\, rainbow roll dice game\, and a “Vegetable Vowel” word play
URL:https://glencoveseniorcenter.com/event/end-of-day-kitchen-adventures/
CATEGORIES:ADP Events
END:VEVENT
BEGIN:VEVENT
DTSTART;VALUE=DATE:20230607
DTEND;VALUE=DATE:20230608
DTSTAMP:20260422T211332
CREATED:20230625T113902Z
LAST-MODIFIED:20230625T113902Z
UID:10000001-1686096000-1686182399@glencoveseniorcenter.com
SUMMARY:Father’s Day Celebration (in-house)
DESCRIPTION:Live music by the Long Island Harmonizers
URL:https://glencoveseniorcenter.com/event/fathers-day-celebration-in-house/
CATEGORIES:ADP Events
END:VEVENT
BEGIN:VEVENT
DTSTART;TZID=America/Chicago:20230607T100000
DTEND;TZID=America/Chicago:20230607T100000
DTSTAMP:20260422T211332
CREATED:20230625T115523Z
LAST-MODIFIED:20230625T115523Z
UID:10000025-1686132000-1686132000@glencoveseniorcenter.com
SUMMARY:Reading & Recitals: Supermen
DESCRIPTION:Reading & Recitals:\nSupermen – Inspirational stories\, poems\, & quotes\, celebrating fathers & fatherhood
URL:https://glencoveseniorcenter.com/event/reading-recitals-supermen/
CATEGORIES:ADP Events
END:VEVENT
BEGIN:VEVENT
DTSTART;TZID=America/Chicago:20230607T110000
DTEND;TZID=America/Chicago:20230607T110000
DTSTAMP:20260422T211332
CREATED:20230625T115546Z
LAST-MODIFIED:20230625T115546Z
UID:10000026-1686135600-1686135600@glencoveseniorcenter.com
SUMMARY:Exercise: Tai Chi w/ Maria
DESCRIPTION:
URL:https://glencoveseniorcenter.com/event/exercise-tai-chi-w-maria/
CATEGORIES:ADP Events
END:VEVENT
BEGIN:VEVENT
DTSTART;TZID=America/Chicago:20230607T120000
DTEND;TZID=America/Chicago:20230607T140000
DTSTAMP:20260422T211332
CREATED:20230625T115629Z
LAST-MODIFIED:20230625T115705Z
UID:10000027-1686139200-1686146400@glencoveseniorcenter.com
SUMMARY:Father’s Day Social Celebratory
DESCRIPTION:Father’s Day Social Celebratory lunch\, live music from the Day Dreamer Barber Shop Quartet\, desserts\, & mocktails!
URL:https://glencoveseniorcenter.com/event/fathers-day-social-celebratory-lunch/
CATEGORIES:ADP Events
END:VEVENT
BEGIN:VEVENT
DTSTART;TZID=America/Chicago:20230608T100000
DTEND;TZID=America/Chicago:20230608T100000
DTSTAMP:20260422T211332
CREATED:20230625T115806Z
LAST-MODIFIED:20230625T115806Z
UID:10000028-1686218400-1686218400@glencoveseniorcenter.com
SUMMARY:Coffee & Conversation: Under the Sea
DESCRIPTION:Coffee & Conversation:\nUnder the Sea – Discussing the myths\, legends\, & mysteries of ocean life
URL:https://glencoveseniorcenter.com/event/coffee-conversation-under-the-sea/
CATEGORIES:ADP Events
END:VEVENT
BEGIN:VEVENT
DTSTART;TZID=America/Chicago:20230608T110000
DTEND;TZID=America/Chicago:20230608T110000
DTSTAMP:20260422T211332
CREATED:20230625T115834Z
LAST-MODIFIED:20230625T115834Z
UID:10000029-1686222000-1686222000@glencoveseniorcenter.com
SUMMARY:Exercise: Aerobicize w/ Agatha
DESCRIPTION:
URL:https://glencoveseniorcenter.com/event/exercise-aerobicize-w-agatha-2/
CATEGORIES:ADP Events
END:VEVENT
BEGIN:VEVENT
DTSTART;TZID=America/Chicago:20230608T120000
DTEND;TZID=America/Chicago:20230608T120000
DTSTAMP:20260422T211332
CREATED:20230625T115855Z
LAST-MODIFIED:20230625T115855Z
UID:10000030-1686225600-1686225600@glencoveseniorcenter.com
SUMMARY:Lunch\, music\, and a “Land or Sea” game
DESCRIPTION:
URL:https://glencoveseniorcenter.com/event/lunch-music-and-a-land-or-sea-game/
CATEGORIES:ADP Events
END:VEVENT
BEGIN:VEVENT
DTSTART;TZID=America/Chicago:20230608T130000
DTEND;TZID=America/Chicago:20230608T140000
DTSTAMP:20260422T211332
CREATED:20230625T115934Z
LAST-MODIFIED:20230625T115934Z
UID:10000031-1686229200-1686232800@glencoveseniorcenter.com
SUMMARY:End of Day: Beading Craft
DESCRIPTION:End of Day: Beading Craft – Multicolored Jellyfish followed by an “Ocean Life Hangman”
URL:https://glencoveseniorcenter.com/event/end-of-day-beading-craft/
CATEGORIES:ADP Events
END:VEVENT
BEGIN:VEVENT
DTSTART;VALUE=DATE:20230609
DTEND;VALUE=DATE:20230610
DTSTAMP:20260422T211332
CREATED:20230625T113958Z
LAST-MODIFIED:20230625T113958Z
UID:10000002-1686268800-1686355199@glencoveseniorcenter.com
SUMMARY:ADP Caregiver Support Group
DESCRIPTION:Facilitated by FCA
URL:https://glencoveseniorcenter.com/event/adp-caregiver-support-group/
CATEGORIES:ADP Events
END:VEVENT
BEGIN:VEVENT
DTSTART;VALUE=DATE:20230609
DTEND;VALUE=DATE:20230610
DTSTAMP:20260422T211332
CREATED:20230625T114055Z
LAST-MODIFIED:20230625T114055Z
UID:10000004-1686268800-1686355199@glencoveseniorcenter.com
SUMMARY:“Recall and Reminiscence” Group
DESCRIPTION:Reminiscence Therapy\, guided by LIU Post Speech Language professors
URL:https://glencoveseniorcenter.com/event/recall-and-reminiscence-group/
CATEGORIES:ADP Events
END:VEVENT
BEGIN:VEVENT
DTSTART;TZID=America/Chicago:20230609T100000
DTEND;TZID=America/Chicago:20230609T100000
DTSTAMP:20260422T211332
CREATED:20230625T120046Z
LAST-MODIFIED:20230625T120046Z
UID:10000032-1686304800-1686304800@glencoveseniorcenter.com
SUMMARY:Coffee & Conversation: A Rose for Remembrance
DESCRIPTION:Coffee & Conversation:\nA Rose for Remembrance – The origins and interpretations of these ancient blooms
URL:https://glencoveseniorcenter.com/event/coffee-conversation-a-rose-for-remembrance/
CATEGORIES:ADP Events
END:VEVENT
BEGIN:VEVENT
DTSTART;TZID=America/Chicago:20230609T110000
DTEND;TZID=America/Chicago:20230609T110000
DTSTAMP:20260422T211332
CREATED:20230625T120116Z
LAST-MODIFIED:20230625T120116Z
UID:10000033-1686308400-1686308400@glencoveseniorcenter.com
SUMMARY:“Recall & Reminiscence” Group
DESCRIPTION:“Recall & Reminiscence” Group:\nReminiscence Therapy guided by LIU Post Professors\, Gail & Linda
URL:https://glencoveseniorcenter.com/event/recall-reminiscence-group/
CATEGORIES:ADP Events
END:VEVENT
END:VCALENDAR