BEGIN:VCALENDAR
VERSION:2.0
PRODID:-//Glencove Senior center - ECPv6.15.17.1//NONSGML v1.0//EN
CALSCALE:GREGORIAN
METHOD:PUBLISH
X-WR-CALNAME:Glencove Senior center
X-ORIGINAL-URL:https://glencoveseniorcenter.com
X-WR-CALDESC:Events for Glencove Senior center
REFRESH-INTERVAL;VALUE=DURATION:PT1H
X-Robots-Tag:noindex
X-PUBLISHED-TTL:PT1H
BEGIN:VTIMEZONE
TZID:America/Chicago
BEGIN:DAYLIGHT
TZOFFSETFROM:-0600
TZOFFSETTO:-0500
TZNAME:CDT
DTSTART:20220313T080000
END:DAYLIGHT
BEGIN:STANDARD
TZOFFSETFROM:-0500
TZOFFSETTO:-0600
TZNAME:CST
DTSTART:20221106T070000
END:STANDARD
BEGIN:DAYLIGHT
TZOFFSETFROM:-0600
TZOFFSETTO:-0500
TZNAME:CDT
DTSTART:20230312T080000
END:DAYLIGHT
BEGIN:STANDARD
TZOFFSETFROM:-0500
TZOFFSETTO:-0600
TZNAME:CST
DTSTART:20231105T070000
END:STANDARD
BEGIN:DAYLIGHT
TZOFFSETFROM:-0600
TZOFFSETTO:-0500
TZNAME:CDT
DTSTART:20240310T080000
END:DAYLIGHT
BEGIN:STANDARD
TZOFFSETFROM:-0500
TZOFFSETTO:-0600
TZNAME:CST
DTSTART:20241103T070000
END:STANDARD
END:VTIMEZONE
BEGIN:VEVENT
DTSTART;TZID=America/Chicago:20230608T120000
DTEND;TZID=America/Chicago:20230608T120000
DTSTAMP:20260423T022834
CREATED:20230625T115855Z
LAST-MODIFIED:20230625T115855Z
UID:10000030-1686225600-1686225600@glencoveseniorcenter.com
SUMMARY:Lunch\, music\, and a “Land or Sea” game
DESCRIPTION:
URL:https://glencoveseniorcenter.com/event/lunch-music-and-a-land-or-sea-game/
CATEGORIES:ADP Events
END:VEVENT
BEGIN:VEVENT
DTSTART;TZID=America/Chicago:20230608T130000
DTEND;TZID=America/Chicago:20230608T140000
DTSTAMP:20260423T022834
CREATED:20230625T115934Z
LAST-MODIFIED:20230625T115934Z
UID:10000031-1686229200-1686232800@glencoveseniorcenter.com
SUMMARY:End of Day: Beading Craft
DESCRIPTION:End of Day: Beading Craft – Multicolored Jellyfish followed by an “Ocean Life Hangman”
URL:https://glencoveseniorcenter.com/event/end-of-day-beading-craft/
CATEGORIES:ADP Events
END:VEVENT
BEGIN:VEVENT
DTSTART;VALUE=DATE:20230609
DTEND;VALUE=DATE:20230610
DTSTAMP:20260423T022834
CREATED:20230625T113958Z
LAST-MODIFIED:20230625T113958Z
UID:10000002-1686268800-1686355199@glencoveseniorcenter.com
SUMMARY:ADP Caregiver Support Group
DESCRIPTION:Facilitated by FCA
URL:https://glencoveseniorcenter.com/event/adp-caregiver-support-group/
CATEGORIES:ADP Events
END:VEVENT
BEGIN:VEVENT
DTSTART;VALUE=DATE:20230609
DTEND;VALUE=DATE:20230610
DTSTAMP:20260423T022834
CREATED:20230625T114055Z
LAST-MODIFIED:20230625T114055Z
UID:10000004-1686268800-1686355199@glencoveseniorcenter.com
SUMMARY:“Recall and Reminiscence” Group
DESCRIPTION:Reminiscence Therapy\, guided by LIU Post Speech Language professors
URL:https://glencoveseniorcenter.com/event/recall-and-reminiscence-group/
CATEGORIES:ADP Events
END:VEVENT
BEGIN:VEVENT
DTSTART;TZID=America/Chicago:20230609T100000
DTEND;TZID=America/Chicago:20230609T100000
DTSTAMP:20260423T022834
CREATED:20230625T120046Z
LAST-MODIFIED:20230625T120046Z
UID:10000032-1686304800-1686304800@glencoveseniorcenter.com
SUMMARY:Coffee & Conversation: A Rose for Remembrance
DESCRIPTION:Coffee & Conversation:\nA Rose for Remembrance – The origins and interpretations of these ancient blooms
URL:https://glencoveseniorcenter.com/event/coffee-conversation-a-rose-for-remembrance/
CATEGORIES:ADP Events
END:VEVENT
BEGIN:VEVENT
DTSTART;TZID=America/Chicago:20230609T110000
DTEND;TZID=America/Chicago:20230609T110000
DTSTAMP:20260423T022834
CREATED:20230625T120116Z
LAST-MODIFIED:20230625T120116Z
UID:10000033-1686308400-1686308400@glencoveseniorcenter.com
SUMMARY:“Recall & Reminiscence” Group
DESCRIPTION:“Recall & Reminiscence” Group:\nReminiscence Therapy guided by LIU Post Professors\, Gail & Linda
URL:https://glencoveseniorcenter.com/event/recall-reminiscence-group/
CATEGORIES:ADP Events
END:VEVENT
BEGIN:VEVENT
DTSTART;TZID=America/Chicago:20230609T120000
DTEND;TZID=America/Chicago:20230609T120000
DTSTAMP:20260423T022834
CREATED:20230625T120140Z
LAST-MODIFIED:20230625T120140Z
UID:10000034-1686312000-1686312000@glencoveseniorcenter.com
SUMMARY:Lunch\, music\, & “Garden” Anagrams
DESCRIPTION:
URL:https://glencoveseniorcenter.com/event/lunch-music-garden-anagrams/
CATEGORIES:ADP Events
END:VEVENT
BEGIN:VEVENT
DTSTART;TZID=America/Chicago:20230609T130000
DTEND;TZID=America/Chicago:20230609T140000
DTSTAMP:20260423T022834
CREATED:20230625T120217Z
LAST-MODIFIED:20230625T120217Z
UID:10000035-1686315600-1686319200@glencoveseniorcenter.com
SUMMARY:End of Day: Exercise -  Mind & Body Movement w/ Marvin
DESCRIPTION:
URL:https://glencoveseniorcenter.com/event/end-of-day-exercise-mind-body-movement-w-marvin-2/
CATEGORIES:ADP Events
END:VEVENT
BEGIN:VEVENT
DTSTART;TZID=America/Chicago:20230612T100000
DTEND;TZID=America/Chicago:20230612T100000
DTSTAMP:20260423T022834
CREATED:20230625T120256Z
LAST-MODIFIED:20230625T120256Z
UID:10000036-1686564000-1686564000@glencoveseniorcenter.com
SUMMARY:Show & Tell: A Celebration of Childhood
DESCRIPTION:Show & Tell:\nA Celebration of Childhood – The story of Raggedy Ann & Andy
URL:https://glencoveseniorcenter.com/event/show-tell-a-celebration-of-childhood/
CATEGORIES:ADP Events
END:VEVENT
BEGIN:VEVENT
DTSTART;TZID=America/Chicago:20230612T110000
DTEND;TZID=America/Chicago:20230612T110000
DTSTAMP:20260423T022834
CREATED:20230625T120318Z
LAST-MODIFIED:20230625T120318Z
UID:10000037-1686567600-1686567600@glencoveseniorcenter.com
SUMMARY:Sign Language Class w/ Mill Neck Manor
DESCRIPTION:
URL:https://glencoveseniorcenter.com/event/sign-language-class-w-mill-neck-manor-2/
CATEGORIES:ADP Events
END:VEVENT
BEGIN:VEVENT
DTSTART;TZID=America/Chicago:20230612T114500
DTEND;TZID=America/Chicago:20230612T114500
DTSTAMP:20260423T022834
CREATED:20230625T120340Z
LAST-MODIFIED:20230625T120340Z
UID:10000038-1686570300-1686570300@glencoveseniorcenter.com
SUMMARY:Brain Fitness: “Toy” Crossword
DESCRIPTION:
URL:https://glencoveseniorcenter.com/event/brain-fitness-toy-crossword/
CATEGORIES:ADP Events
END:VEVENT
BEGIN:VEVENT
DTSTART;TZID=America/Chicago:20230612T120000
DTEND;TZID=America/Chicago:20230612T120000
DTSTAMP:20260423T022834
CREATED:20230625T120400Z
LAST-MODIFIED:20230625T120400Z
UID:10000039-1686571200-1686571200@glencoveseniorcenter.com
SUMMARY:Lunch\, music\, & a game of “Associations”
DESCRIPTION:
URL:https://glencoveseniorcenter.com/event/lunch-music-a-game-of-associations/
CATEGORIES:ADP Events
END:VEVENT
BEGIN:VEVENT
DTSTART;TZID=America/Chicago:20230612T130000
DTEND;TZID=America/Chicago:20230612T140000
DTSTAMP:20260423T022834
CREATED:20230625T120424Z
LAST-MODIFIED:20230625T120424Z
UID:10000040-1686574800-1686578400@glencoveseniorcenter.com
SUMMARY:End of Day: Cloth Crafts - Mop heads\, followed by kick ball
DESCRIPTION:
URL:https://glencoveseniorcenter.com/event/end-of-day-cloth-crafts-mop-heads-followed-by-kick-ball/
CATEGORIES:ADP Events
END:VEVENT
BEGIN:VEVENT
DTSTART;TZID=America/Chicago:20230613T100000
DTEND;TZID=America/Chicago:20230613T100000
DTSTAMP:20260423T022834
CREATED:20230625T121017Z
LAST-MODIFIED:20230625T121017Z
UID:10000041-1686650400-1686650400@glencoveseniorcenter.com
SUMMARY:Coffee & Conversation: Brain Storming!
DESCRIPTION:Coffee & Conversation:\nBrain Storming! – Unraveling the myths & facts around our brain health
URL:https://glencoveseniorcenter.com/event/coffee-conversation-brain-storming/
CATEGORIES:ADP Events
END:VEVENT
BEGIN:VEVENT
DTSTART;TZID=America/Chicago:20230613T110000
DTEND;TZID=America/Chicago:20230613T110000
DTSTAMP:20260423T022834
CREATED:20230625T121104Z
LAST-MODIFIED:20230625T121104Z
UID:10000042-1686654000-1686654000@glencoveseniorcenter.com
SUMMARY:Cognitive Challenge: “Hidden Picture” teaser
DESCRIPTION:
URL:https://glencoveseniorcenter.com/event/cognitive-challenge-hidden-picture-teaser/
CATEGORIES:ADP Events
END:VEVENT
BEGIN:VEVENT
DTSTART;TZID=America/Chicago:20230613T113000
DTEND;TZID=America/Chicago:20230613T113000
DTSTAMP:20260423T022834
CREATED:20230625T121142Z
LAST-MODIFIED:20230625T121142Z
UID:10000043-1686655800-1686655800@glencoveseniorcenter.com
SUMMARY:Exercise: Silver Sneakers (via YouTube)
DESCRIPTION:
URL:https://glencoveseniorcenter.com/event/exercise-silver-sneakers-via-youtube/
CATEGORIES:ADP Events
END:VEVENT
BEGIN:VEVENT
DTSTART;TZID=America/Chicago:20230613T120000
DTEND;TZID=America/Chicago:20230613T120000
DTSTAMP:20260423T022834
CREATED:20230625T121202Z
LAST-MODIFIED:20230625T121202Z
UID:10000044-1686657600-1686657600@glencoveseniorcenter.com
SUMMARY:Lunch\, music\, & “Double Word” game
DESCRIPTION:
URL:https://glencoveseniorcenter.com/event/lunch-music-double-word-game/
CATEGORIES:ADP Events
END:VEVENT
BEGIN:VEVENT
DTSTART;TZID=America/Chicago:20230613T130000
DTEND;TZID=America/Chicago:20230613T140000
DTSTAMP:20260423T022834
CREATED:20230625T121237Z
LAST-MODIFIED:20230625T121237Z
UID:10000045-1686661200-1686664800@glencoveseniorcenter.com
SUMMARY:End of Day: Team Games
DESCRIPTION:End of Day: Team Games – Magazine Scavenger Hunt\, Outburst\, and volleyball
URL:https://glencoveseniorcenter.com/event/end-of-day-team-games/
CATEGORIES:ADP Events
END:VEVENT
BEGIN:VEVENT
DTSTART;TZID=America/Chicago:20230614T100000
DTEND;TZID=America/Chicago:20230614T100000
DTSTAMP:20260423T022834
CREATED:20230625T121626Z
LAST-MODIFIED:20230625T121626Z
UID:10000046-1686736800-1686736800@glencoveseniorcenter.com
SUMMARY:Coffee & Conversation: Stars & Stripes
DESCRIPTION:Coffee & Conversation:\nStars & Stripes – The story behind “Old Glory”
URL:https://glencoveseniorcenter.com/event/coffee-conversation-stars-stripes/
CATEGORIES:ADP Events
END:VEVENT
BEGIN:VEVENT
DTSTART;TZID=America/Chicago:20230614T110000
DTEND;TZID=America/Chicago:20230614T110000
DTSTAMP:20260423T022834
CREATED:20230625T121647Z
LAST-MODIFIED:20230625T121647Z
UID:10000047-1686740400-1686740400@glencoveseniorcenter.com
SUMMARY:Brain Game: “Build a Sentence” word-play
DESCRIPTION:
URL:https://glencoveseniorcenter.com/event/brain-game-build-a-sentence-word-play/
CATEGORIES:ADP Events
END:VEVENT
BEGIN:VEVENT
DTSTART;TZID=America/Chicago:20230614T113000
DTEND;TZID=America/Chicago:20230614T113000
DTSTAMP:20260423T022834
CREATED:20230625T121718Z
LAST-MODIFIED:20230625T121718Z
UID:10000048-1686742200-1686742200@glencoveseniorcenter.com
SUMMARY:Exercice: Tai Chi w/ Maria
DESCRIPTION:
URL:https://glencoveseniorcenter.com/event/exercice-tai-chi-w-maria/
CATEGORIES:ADP Events
END:VEVENT
BEGIN:VEVENT
DTSTART;TZID=America/Chicago:20230614T120000
DTEND;TZID=America/Chicago:20230614T120000
DTSTAMP:20260423T022834
CREATED:20230625T121740Z
LAST-MODIFIED:20230625T121740Z
UID:10000049-1686744000-1686744000@glencoveseniorcenter.com
SUMMARY:Lunch\, music\, & a Flag quiz
DESCRIPTION:
URL:https://glencoveseniorcenter.com/event/lunch-music-a-flag-quiz/
CATEGORIES:ADP Events
END:VEVENT
BEGIN:VEVENT
DTSTART;TZID=America/Chicago:20230614T133000
DTEND;TZID=America/Chicago:20230614T140000
DTSTAMP:20260423T022834
CREATED:20230625T121805Z
LAST-MODIFIED:20230625T121805Z
UID:10000050-1686749400-1686751200@glencoveseniorcenter.com
SUMMARY:End of Day: Stars & Stripes Party
DESCRIPTION:End of Day: Stars & Stripes Party –\nFestive dessert\, drinks\, and a star craft
URL:https://glencoveseniorcenter.com/event/end-of-day-stars-stripes-party/
CATEGORIES:ADP Events
END:VEVENT
BEGIN:VEVENT
DTSTART;TZID=America/Chicago:20230615T100000
DTEND;TZID=America/Chicago:20230615T100000
DTSTAMP:20260423T022834
CREATED:20230625T122354Z
LAST-MODIFIED:20230625T122354Z
UID:10000051-1686823200-1686823200@glencoveseniorcenter.com
SUMMARY:Coffee & Conversation: Social Butterflies & Homebodies
DESCRIPTION:Coffee & Conversation:\nSocial Butterflies & Homebodies – Discussing the astrological traits of our June birth signs
URL:https://glencoveseniorcenter.com/event/coffee-conversation-social-butterflies-homebodies/
CATEGORIES:ADP Events
END:VEVENT
BEGIN:VEVENT
DTSTART;TZID=America/Chicago:20230615T110000
DTEND;TZID=America/Chicago:20230615T110000
DTSTAMP:20260423T022834
CREATED:20230625T122428Z
LAST-MODIFIED:20230625T122428Z
UID:10000052-1686826800-1686826800@glencoveseniorcenter.com
SUMMARY:Exercise: Aerobicize w/ Agatha
DESCRIPTION:
URL:https://glencoveseniorcenter.com/event/exercise-aerobicize-w-agatha-3/
CATEGORIES:ADP Events
END:VEVENT
BEGIN:VEVENT
DTSTART;TZID=America/Chicago:20230615T120000
DTEND;TZID=America/Chicago:20230615T120000
DTSTAMP:20260423T022834
CREATED:20230625T122450Z
LAST-MODIFIED:20230625T122450Z
UID:10000053-1686830400-1686830400@glencoveseniorcenter.com
SUMMARY:Lunch\, music\, & a game of “Would You Rather?”
DESCRIPTION:
URL:https://glencoveseniorcenter.com/event/lunch-music-a-game-of-would-you-rather/
CATEGORIES:ADP Events
END:VEVENT
BEGIN:VEVENT
DTSTART;TZID=America/Chicago:20230615T130000
DTEND;TZID=America/Chicago:20230615T140000
DTSTAMP:20260423T022834
CREATED:20230625T122523Z
LAST-MODIFIED:20230625T122523Z
UID:10000054-1686834000-1686837600@glencoveseniorcenter.com
SUMMARY:End of Day: Personality Painting
DESCRIPTION:End of Day: Personality Painting – Zodiac signs followed by a game of Kickball
URL:https://glencoveseniorcenter.com/event/end-of-day-personality-painting/
CATEGORIES:ADP Events
END:VEVENT
BEGIN:VEVENT
DTSTART;VALUE=DATE:20230616
DTEND;VALUE=DATE:20230617
DTSTAMP:20260423T022834
CREATED:20230625T122555Z
LAST-MODIFIED:20230625T122555Z
UID:10000055-1686873600-1686959999@glencoveseniorcenter.com
SUMMARY:Closed
DESCRIPTION:Arts & Alzheimer’s Conference
URL:https://glencoveseniorcenter.com/event/closed/
CATEGORIES:ADP Events
END:VEVENT
BEGIN:VEVENT
DTSTART;VALUE=DATE:20230619
DTEND;VALUE=DATE:20230620
DTSTAMP:20260423T022834
CREATED:20230625T122718Z
LAST-MODIFIED:20230625T122718Z
UID:10000056-1687132800-1687219199@glencoveseniorcenter.com
SUMMARY:Closed
DESCRIPTION:Juneteenth
URL:https://glencoveseniorcenter.com/event/closed-2/
CATEGORIES:ADP Events
END:VEVENT
BEGIN:VEVENT
DTSTART;TZID=America/Chicago:20230620T100000
DTEND;TZID=America/Chicago:20230620T100000
DTSTAMP:20260423T022834
CREATED:20230625T122750Z
LAST-MODIFIED:20230625T122750Z
UID:10000057-1687255200-1687255200@glencoveseniorcenter.com
SUMMARY:Coffee & Conversation: I Scream\, You Scream…
DESCRIPTION:Coffee & Conversation:\nI Scream\, You Scream… The sweet tale of the ever-popular ice cream soda
URL:https://glencoveseniorcenter.com/event/coffee-conversation-i-scream-you-scream/
CATEGORIES:ADP Events
END:VEVENT
END:VCALENDAR