BEGIN:VCALENDAR
VERSION:2.0
PRODID:-//Glencove Senior center - ECPv6.15.17.1//NONSGML v1.0//EN
CALSCALE:GREGORIAN
METHOD:PUBLISH
X-WR-CALNAME:Glencove Senior center
X-ORIGINAL-URL:https://glencoveseniorcenter.com
X-WR-CALDESC:Events for Glencove Senior center
REFRESH-INTERVAL;VALUE=DURATION:PT1H
X-Robots-Tag:noindex
X-PUBLISHED-TTL:PT1H
BEGIN:VTIMEZONE
TZID:America/Chicago
BEGIN:DAYLIGHT
TZOFFSETFROM:-0600
TZOFFSETTO:-0500
TZNAME:CDT
DTSTART:20220313T080000
END:DAYLIGHT
BEGIN:STANDARD
TZOFFSETFROM:-0500
TZOFFSETTO:-0600
TZNAME:CST
DTSTART:20221106T070000
END:STANDARD
BEGIN:DAYLIGHT
TZOFFSETFROM:-0600
TZOFFSETTO:-0500
TZNAME:CDT
DTSTART:20230312T080000
END:DAYLIGHT
BEGIN:STANDARD
TZOFFSETFROM:-0500
TZOFFSETTO:-0600
TZNAME:CST
DTSTART:20231105T070000
END:STANDARD
BEGIN:DAYLIGHT
TZOFFSETFROM:-0600
TZOFFSETTO:-0500
TZNAME:CDT
DTSTART:20240310T080000
END:DAYLIGHT
BEGIN:STANDARD
TZOFFSETFROM:-0500
TZOFFSETTO:-0600
TZNAME:CST
DTSTART:20241103T070000
END:STANDARD
END:VTIMEZONE
BEGIN:VEVENT
DTSTART;TZID=America/Chicago:20230622T103000
DTEND;TZID=America/Chicago:20230622T103000
DTSTAMP:20260422T045140
CREATED:20230625T131410Z
LAST-MODIFIED:20230625T131410Z
UID:10000172-1687429800-1687429800@glencoveseniorcenter.com
SUMMARY:Exercise w/ YMCA
DESCRIPTION:
URL:https://glencoveseniorcenter.com/event/exercise-w-ymca/2023-06-22/
CATEGORIES:Activities
END:VEVENT
BEGIN:VEVENT
DTSTART;TZID=America/Chicago:20230622T100000
DTEND;TZID=America/Chicago:20230622T100000
DTSTAMP:20260422T045140
CREATED:20230625T130243Z
LAST-MODIFIED:20230625T135430Z
UID:10000114-1687428000-1687428000@glencoveseniorcenter.com
SUMMARY:Card & Board Games
DESCRIPTION:
URL:https://glencoveseniorcenter.com/event/card-board-games/2023-06-22/
CATEGORIES:Activities
END:VEVENT
BEGIN:VEVENT
DTSTART;TZID=America/Chicago:20230621T150000
DTEND;TZID=America/Chicago:20230621T160000
DTSTAMP:20260422T045140
CREATED:20230625T142019Z
LAST-MODIFIED:20230625T142019Z
UID:10000845-1687359600-1687363200@glencoveseniorcenter.com
SUMMARY:INTRODUCTION TO PICKLEBALL W/ ERIC AT STANCO PARK (Need to register)
DESCRIPTION:
URL:https://glencoveseniorcenter.com/event/introduction-to-pickleball-w-eric-at-stanco-park-need-to-register/2023-06-21/
CATEGORIES:Activities
END:VEVENT
BEGIN:VEVENT
DTSTART;TZID=America/Chicago:20230621T140000
DTEND;TZID=America/Chicago:20230621T140000
DTSTAMP:20260422T045140
CREATED:20230625T141909Z
LAST-MODIFIED:20230625T141909Z
UID:10000842-1687356000-1687356000@glencoveseniorcenter.com
SUMMARY:Chair Yoga w/ Patty
DESCRIPTION:
URL:https://glencoveseniorcenter.com/event/chair-yoga-w-patty/2023-06-21/
CATEGORIES:Activities
END:VEVENT
BEGIN:VEVENT
DTSTART;TZID=America/Chicago:20230621T130000
DTEND;TZID=America/Chicago:20230621T130000
DTSTAMP:20260422T045140
CREATED:20230625T150445Z
LAST-MODIFIED:20230625T150445Z
UID:10000888-1687352400-1687352400@glencoveseniorcenter.com
SUMMARY:Positive Affirmations Lecture
DESCRIPTION:
URL:https://glencoveseniorcenter.com/event/positive-affirmations-lecture-2/
CATEGORIES:Activities
END:VEVENT
BEGIN:VEVENT
DTSTART;TZID=America/Chicago:20230621T130000
DTEND;TZID=America/Chicago:20230621T130000
DTSTAMP:20260422T045140
CREATED:20230625T144618Z
LAST-MODIFIED:20230625T144618Z
UID:10000873-1687352400-1687352400@glencoveseniorcenter.com
SUMMARY:Bingo\, Canasta\, Bridge\, & Mahjong
DESCRIPTION:
URL:https://glencoveseniorcenter.com/event/bingo-canasta-bridge-mahjong/2023-06-21/
CATEGORIES:Activities
END:VEVENT
BEGIN:VEVENT
DTSTART;TZID=America/Chicago:20230621T110000
DTEND;TZID=America/Chicago:20230621T110000
DTSTAMP:20260422T045140
CREATED:20230625T144512Z
LAST-MODIFIED:20230625T144512Z
UID:10000870-1687345200-1687345200@glencoveseniorcenter.com
SUMMARY:Chess Club
DESCRIPTION:
URL:https://glencoveseniorcenter.com/event/chess-club/2023-06-21/
CATEGORIES:Activities
END:VEVENT
BEGIN:VEVENT
DTSTART;TZID=America/Chicago:20230621T110000
DTEND;TZID=America/Chicago:20230621T110000
DTSTAMP:20260422T045140
CREATED:20230625T144411Z
LAST-MODIFIED:20230625T144411Z
UID:10000868-1687345200-1687345200@glencoveseniorcenter.com
SUMMARY:Poetry & Creative Writing Club
DESCRIPTION:
URL:https://glencoveseniorcenter.com/event/poetry-creative-writing-club/2023-06-21/
CATEGORIES:Activities
END:VEVENT
BEGIN:VEVENT
DTSTART;TZID=America/Chicago:20230621T101500
DTEND;TZID=America/Chicago:20230621T101500
DTSTAMP:20260422T045140
CREATED:20230625T150341Z
LAST-MODIFIED:20230625T150341Z
UID:10000887-1687342500-1687342500@glencoveseniorcenter.com
SUMMARY:CANASTA TOURNAMENT
DESCRIPTION:
URL:https://glencoveseniorcenter.com/event/canasta-tournament/
CATEGORIES:Activities
END:VEVENT
BEGIN:VEVENT
DTSTART;TZID=America/Chicago:20230621T100000
DTEND;TZID=America/Chicago:20230621T100000
DTSTAMP:20260422T045140
CREATED:20230625T141431Z
LAST-MODIFIED:20230625T141431Z
UID:10000833-1687341600-1687341600@glencoveseniorcenter.com
SUMMARY:Stretching & Strength Training w/ Nick
DESCRIPTION:
URL:https://glencoveseniorcenter.com/event/stretching-strength-training-w-nick/2023-06-21/
CATEGORIES:Activities
END:VEVENT
BEGIN:VEVENT
DTSTART;TZID=America/Chicago:20230621T090000
DTEND;TZID=America/Chicago:20230621T090000
DTSTAMP:20260422T045140
CREATED:20230625T141240Z
LAST-MODIFIED:20230625T141240Z
UID:10000830-1687338000-1687338000@glencoveseniorcenter.com
SUMMARY:Seniorobics w/ Fran\, Crocheting
DESCRIPTION:
URL:https://glencoveseniorcenter.com/event/seniorobics-w-fran-crocheting/2023-06-21/
CATEGORIES:Activities
END:VEVENT
BEGIN:VEVENT
DTSTART;TZID=America/Chicago:20230620T130000
DTEND;TZID=America/Chicago:20230620T130000
DTSTAMP:20260422T045140
CREATED:20230625T150132Z
LAST-MODIFIED:20230625T150132Z
UID:10000885-1687266000-1687266000@glencoveseniorcenter.com
SUMMARY:Bingo\, Ping Pong
DESCRIPTION:
URL:https://glencoveseniorcenter.com/event/bingo-ping-pong/2023-06-20/
CATEGORIES:Activities
END:VEVENT
BEGIN:VEVENT
DTSTART;TZID=America/Chicago:20230620T130000
DTEND;TZID=America/Chicago:20230620T130000
DTSTAMP:20260422T045140
CREATED:20230625T150043Z
LAST-MODIFIED:20230625T150043Z
UID:10000883-1687266000-1687266000@glencoveseniorcenter.com
SUMMARY:Canasta\, Mahjong
DESCRIPTION:
URL:https://glencoveseniorcenter.com/event/canasta-mahjong-2/2023-06-20/
CATEGORIES:Activities
END:VEVENT
BEGIN:VEVENT
DTSTART;TZID=America/Chicago:20230620T130000
DTEND;TZID=America/Chicago:20230620T130000
DTSTAMP:20260422T045140
CREATED:20230625T140831Z
LAST-MODIFIED:20230625T140831Z
UID:10000823-1687266000-1687266000@glencoveseniorcenter.com
SUMMARY:Foot Check-Up w/Dr. Grossman Podiatrist
DESCRIPTION:
URL:https://glencoveseniorcenter.com/event/foot-check-up-w-dr-grossman-podiatrist/2023-06-20/
CATEGORIES:Activities
END:VEVENT
BEGIN:VEVENT
DTSTART;TZID=America/Chicago:20230620T130000
DTEND;TZID=America/Chicago:20230620T130000
DTSTAMP:20260422T045140
CREATED:20230625T140150Z
LAST-MODIFIED:20230625T140150Z
UID:10000809-1687266000-1687266000@glencoveseniorcenter.com
SUMMARY:INTRODUCTION TO SPANISH W/ LUCY
DESCRIPTION:
URL:https://glencoveseniorcenter.com/event/introduction-to-spanish-w-lucy/2023-06-20/
CATEGORIES:Activities
END:VEVENT
BEGIN:VEVENT
DTSTART;TZID=America/Chicago:20230620T120000
DTEND;TZID=America/Chicago:20230620T120000
DTSTAMP:20260422T045140
CREATED:20230625T145926Z
LAST-MODIFIED:20230625T145926Z
UID:10000882-1687262400-1687262400@glencoveseniorcenter.com
SUMMARY:JUNETEENTH CELEBRATION
DESCRIPTION:
URL:https://glencoveseniorcenter.com/event/juneteenth-celebration/
CATEGORIES:Activities
END:VEVENT
BEGIN:VEVENT
DTSTART;TZID=America/Chicago:20230620T110000
DTEND;TZID=America/Chicago:20230620T110000
DTSTAMP:20260422T045140
CREATED:20230625T140000Z
LAST-MODIFIED:20230625T140000Z
UID:10000805-1687258800-1687258800@glencoveseniorcenter.com
SUMMARY:Total Body Fitness w/ Marvin
DESCRIPTION:
URL:https://glencoveseniorcenter.com/event/total-body-fitness-w-marvin/2023-06-20/
CATEGORIES:Activities
END:VEVENT
BEGIN:VEVENT
DTSTART;TZID=America/Chicago:20230620T110000
DTEND;TZID=America/Chicago:20230620T110000
DTSTAMP:20260422T045140
CREATED:20230625T135611Z
LAST-MODIFIED:20230625T135625Z
UID:10000746-1687258800-1687258800@glencoveseniorcenter.com
SUMMARY:Trivia
DESCRIPTION:
URL:https://glencoveseniorcenter.com/event/trivia/2023-06-20/
CATEGORIES:Activities
END:VEVENT
BEGIN:VEVENT
DTSTART;TZID=America/Chicago:20230620T101500
DTEND;TZID=America/Chicago:20230620T101500
DTSTAMP:20260422T045140
CREATED:20230625T135133Z
LAST-MODIFIED:20230625T135133Z
UID:10000732-1687256100-1687256100@glencoveseniorcenter.com
SUMMARY:Walking Club
DESCRIPTION:
URL:https://glencoveseniorcenter.com/event/walking-club/2023-06-20/
CATEGORIES:Activities
END:VEVENT
BEGIN:VEVENT
DTSTART;TZID=America/Chicago:20230620T100000
DTEND;TZID=America/Chicago:20230620T100000
DTSTAMP:20260422T045140
CREATED:20230625T144029Z
LAST-MODIFIED:20230625T144029Z
UID:10000862-1687255200-1687255200@glencoveseniorcenter.com
SUMMARY:Painting & Drawing w/ Chuck
DESCRIPTION:
URL:https://glencoveseniorcenter.com/event/painting-drawing-w-chuck/2023-06-20/
CATEGORIES:Activities
END:VEVENT
BEGIN:VEVENT
DTSTART;VALUE=DATE:20230620
DTEND;VALUE=DATE:20230621
DTSTAMP:20260422T045140
CREATED:20230625T125424Z
LAST-MODIFIED:20230625T145805Z
UID:10000099-1687219200-1687305599@glencoveseniorcenter.com
SUMMARY:Broadway Museum & St. Patrick’s Cathedreal Trip
DESCRIPTION:
URL:https://glencoveseniorcenter.com/event/museum-of-broadway-st-pats/
CATEGORIES:Activities
END:VEVENT
BEGIN:VEVENT
DTSTART;VALUE=DATE:20230619
DTEND;VALUE=DATE:20230620
DTSTAMP:20260422T045140
CREATED:20230625T145457Z
LAST-MODIFIED:20230625T145457Z
UID:10000881-1687132800-1687219199@glencoveseniorcenter.com
SUMMARY:THE CENTER IS CLOSED FOR JUNETEENTH
DESCRIPTION:
URL:https://glencoveseniorcenter.com/event/the-center-is-closed-for-juneteenth/
CATEGORIES:Activities
END:VEVENT
BEGIN:VEVENT
DTSTART;TZID=America/Chicago:20230616T150000
DTEND;TZID=America/Chicago:20230616T150000
DTSTAMP:20260422T045140
CREATED:20230625T133123Z
LAST-MODIFIED:20230625T133123Z
UID:10000541-1686927600-1686927600@glencoveseniorcenter.com
SUMMARY:Tai Chi w/ Spencer
DESCRIPTION:
URL:https://glencoveseniorcenter.com/event/tai-chi-w-spencer/2023-06-16/
CATEGORIES:Activities
END:VEVENT
BEGIN:VEVENT
DTSTART;TZID=America/Chicago:20230616T131500
DTEND;TZID=America/Chicago:20230616T131500
DTSTAMP:20260422T045140
CREATED:20230625T132914Z
LAST-MODIFIED:20230625T132914Z
UID:10000535-1686921300-1686921300@glencoveseniorcenter.com
SUMMARY:Line Dancing w/ Kathy
DESCRIPTION:
URL:https://glencoveseniorcenter.com/event/line-dancing-w-kathy/2023-06-16/
CATEGORIES:Activities
END:VEVENT
BEGIN:VEVENT
DTSTART;TZID=America/Chicago:20230616T130000
DTEND;TZID=America/Chicago:20230616T130000
DTSTAMP:20260422T045140
CREATED:20230625T173820Z
LAST-MODIFIED:20230625T173829Z
UID:10000890-1686920400-1686920400@glencoveseniorcenter.com
SUMMARY:Canasta
DESCRIPTION:
URL:https://glencoveseniorcenter.com/event/canasta/2023-06-16/
CATEGORIES:Activities
END:VEVENT
BEGIN:VEVENT
DTSTART;TZID=America/Chicago:20230616T130000
DTEND;TZID=America/Chicago:20230616T130000
DTSTAMP:20260422T045140
CREATED:20230625T140527Z
LAST-MODIFIED:20230625T140742Z
UID:10000813-1686920400-1686920400@glencoveseniorcenter.com
SUMMARY:Bingo
DESCRIPTION:
URL:https://glencoveseniorcenter.com/event/bingo/2023-06-16/
CATEGORIES:Activities
END:VEVENT
BEGIN:VEVENT
DTSTART;TZID=America/Chicago:20230616T120000
DTEND;TZID=America/Chicago:20230616T120000
DTSTAMP:20260422T045140
CREATED:20230625T125825Z
LAST-MODIFIED:20230625T125825Z
UID:10000107-1686916800-1686916800@glencoveseniorcenter.com
SUMMARY:FATHER’S DAY LUNCHEON
DESCRIPTION:FATHER’S DAY LUNCHEON
URL:https://glencoveseniorcenter.com/event/fathers-day-luncheon/
CATEGORIES:Activities
END:VEVENT
BEGIN:VEVENT
DTSTART;TZID=America/Chicago:20230616T110000
DTEND;TZID=America/Chicago:20230616T110000
DTSTAMP:20260422T045140
CREATED:20230625T135732Z
LAST-MODIFIED:20230625T135732Z
UID:10000801-1686913200-1686913200@glencoveseniorcenter.com
SUMMARY:DAKIM Signup
DESCRIPTION:
URL:https://glencoveseniorcenter.com/event/dakim-signup/2023-06-16/
CATEGORIES:Activities
END:VEVENT
BEGIN:VEVENT
DTSTART;TZID=America/Chicago:20230616T110000
DTEND;TZID=America/Chicago:20230616T110000
DTSTAMP:20260422T045140
CREATED:20230625T132712Z
LAST-MODIFIED:20230625T132712Z
UID:10000478-1686913200-1686913200@glencoveseniorcenter.com
SUMMARY:Stretching & Meditation w/ Nick
DESCRIPTION:
URL:https://glencoveseniorcenter.com/event/stretching-meditation-w-nick/2023-06-16/
CATEGORIES:Activities
END:VEVENT
BEGIN:VEVENT
DTSTART;TZID=America/Chicago:20230616T100000
DTEND;TZID=America/Chicago:20230616T100000
DTSTAMP:20260422T045140
CREATED:20230625T143023Z
LAST-MODIFIED:20230625T143023Z
UID:10000851-1686909600-1686909600@glencoveseniorcenter.com
SUMMARY:FUNday W/ Eric
DESCRIPTION:
URL:https://glencoveseniorcenter.com/event/funday-w-eric/2023-06-16/
CATEGORIES:Activities
END:VEVENT
END:VCALENDAR