BEGIN:VCALENDAR
VERSION:2.0
PRODID:-//Glencove Senior center - ECPv6.15.17.1//NONSGML v1.0//EN
CALSCALE:GREGORIAN
METHOD:PUBLISH
X-WR-CALNAME:Glencove Senior center
X-ORIGINAL-URL:https://glencoveseniorcenter.com
X-WR-CALDESC:Events for Glencove Senior center
REFRESH-INTERVAL;VALUE=DURATION:PT1H
X-Robots-Tag:noindex
X-PUBLISHED-TTL:PT1H
BEGIN:VTIMEZONE
TZID:America/Chicago
BEGIN:DAYLIGHT
TZOFFSETFROM:-0600
TZOFFSETTO:-0500
TZNAME:CDT
DTSTART:20220313T080000
END:DAYLIGHT
BEGIN:STANDARD
TZOFFSETFROM:-0500
TZOFFSETTO:-0600
TZNAME:CST
DTSTART:20221106T070000
END:STANDARD
BEGIN:DAYLIGHT
TZOFFSETFROM:-0600
TZOFFSETTO:-0500
TZNAME:CDT
DTSTART:20230312T080000
END:DAYLIGHT
BEGIN:STANDARD
TZOFFSETFROM:-0500
TZOFFSETTO:-0600
TZNAME:CST
DTSTART:20231105T070000
END:STANDARD
BEGIN:DAYLIGHT
TZOFFSETFROM:-0600
TZOFFSETTO:-0500
TZNAME:CDT
DTSTART:20240310T080000
END:DAYLIGHT
BEGIN:STANDARD
TZOFFSETFROM:-0500
TZOFFSETTO:-0600
TZNAME:CST
DTSTART:20241103T070000
END:STANDARD
END:VTIMEZONE
BEGIN:VEVENT
DTSTART;TZID=America/Chicago:20230615T111500
DTEND;TZID=America/Chicago:20230615T111500
DTSTAMP:20260422T094306
CREATED:20230625T145030Z
LAST-MODIFIED:20230625T145030Z
UID:10000878-1686827700-1686827700@glencoveseniorcenter.com
SUMMARY:Wii Games
DESCRIPTION:
URL:https://glencoveseniorcenter.com/event/wii-games/
CATEGORIES:Activities
END:VEVENT
BEGIN:VEVENT
DTSTART;TZID=America/Chicago:20230615T110000
DTEND;TZID=America/Chicago:20230615T110000
DTSTAMP:20260422T094306
CREATED:20230625T145002Z
LAST-MODIFIED:20230625T145002Z
UID:10000877-1686826800-1686826800@glencoveseniorcenter.com
SUMMARY:Wellness Chat w/ Lou Anne
DESCRIPTION:
URL:https://glencoveseniorcenter.com/event/wellness-chat-w-lou-anne/
CATEGORIES:Activities
END:VEVENT
BEGIN:VEVENT
DTSTART;TZID=America/Chicago:20230615T103000
DTEND;TZID=America/Chicago:20230615T103000
DTSTAMP:20260422T094306
CREATED:20230625T144940Z
LAST-MODIFIED:20230625T144940Z
UID:10000876-1686825000-1686825000@glencoveseniorcenter.com
SUMMARY:Exercise YMCA
DESCRIPTION:
URL:https://glencoveseniorcenter.com/event/exercise-ymca/
CATEGORIES:Activities
END:VEVENT
BEGIN:VEVENT
DTSTART;TZID=America/Chicago:20230615T103000
DTEND;TZID=America/Chicago:20230615T103000
DTSTAMP:20260422T094306
CREATED:20230625T131410Z
LAST-MODIFIED:20230625T131410Z
UID:10000171-1686825000-1686825000@glencoveseniorcenter.com
SUMMARY:Exercise w/ YMCA
DESCRIPTION:
URL:https://glencoveseniorcenter.com/event/exercise-w-ymca/2023-06-15/
CATEGORIES:Activities
END:VEVENT
BEGIN:VEVENT
DTSTART;TZID=America/Chicago:20230615T100000
DTEND;TZID=America/Chicago:20230615T100000
DTSTAMP:20260422T094306
CREATED:20230625T130243Z
LAST-MODIFIED:20230625T135430Z
UID:10000113-1686823200-1686823200@glencoveseniorcenter.com
SUMMARY:Card & Board Games
DESCRIPTION:
URL:https://glencoveseniorcenter.com/event/card-board-games/2023-06-15/
CATEGORIES:Activities
END:VEVENT
BEGIN:VEVENT
DTSTART;TZID=America/Chicago:20230615T093000
DTEND;TZID=America/Chicago:20230615T120000
DTSTAMP:20260422T094306
CREATED:20230625T144901Z
LAST-MODIFIED:20230625T144901Z
UID:10000875-1686821400-1686830400@glencoveseniorcenter.com
SUMMARY:SNAP By Appointment Only
DESCRIPTION:
URL:https://glencoveseniorcenter.com/event/snap-by-appointment-only/
CATEGORIES:Activities
END:VEVENT
BEGIN:VEVENT
DTSTART;TZID=America/Chicago:20230615T090000
DTEND;TZID=America/Chicago:20230615T090000
DTSTAMP:20260422T094306
CREATED:20230625T144833Z
LAST-MODIFIED:20230625T144833Z
UID:10000874-1686819600-1686819600@glencoveseniorcenter.com
SUMMARY:Walk with A Doc (Garvies Point)
DESCRIPTION:
URL:https://glencoveseniorcenter.com/event/walk-with-a-doc-garvies-point/
CATEGORIES:Activities
END:VEVENT
BEGIN:VEVENT
DTSTART;TZID=America/Chicago:20230614T140000
DTEND;TZID=America/Chicago:20230614T140000
DTSTAMP:20260422T094306
CREATED:20230625T141909Z
LAST-MODIFIED:20230625T141909Z
UID:10000841-1686751200-1686751200@glencoveseniorcenter.com
SUMMARY:Chair Yoga w/ Patty
DESCRIPTION:
URL:https://glencoveseniorcenter.com/event/chair-yoga-w-patty/2023-06-14/
CATEGORIES:Activities
END:VEVENT
BEGIN:VEVENT
DTSTART;TZID=America/Chicago:20230614T130000
DTEND;TZID=America/Chicago:20230614T130000
DTSTAMP:20260422T094306
CREATED:20230625T144618Z
LAST-MODIFIED:20230625T144618Z
UID:10000872-1686747600-1686747600@glencoveseniorcenter.com
SUMMARY:Bingo\, Canasta\, Bridge\, & Mahjong
DESCRIPTION:
URL:https://glencoveseniorcenter.com/event/bingo-canasta-bridge-mahjong/2023-06-14/
CATEGORIES:Activities
END:VEVENT
BEGIN:VEVENT
DTSTART;TZID=America/Chicago:20230614T130000
DTEND;TZID=America/Chicago:20230614T130000
DTSTAMP:20260422T094306
CREATED:20230625T144539Z
LAST-MODIFIED:20230625T144539Z
UID:10000871-1686747600-1686747600@glencoveseniorcenter.com
SUMMARY:Positive Affirmations Lecture
DESCRIPTION:
URL:https://glencoveseniorcenter.com/event/positive-affirmations-lecture/
CATEGORIES:Activities
END:VEVENT
BEGIN:VEVENT
DTSTART;TZID=America/Chicago:20230614T110000
DTEND;TZID=America/Chicago:20230614T110000
DTSTAMP:20260422T094306
CREATED:20230625T144512Z
LAST-MODIFIED:20230625T144512Z
UID:10000869-1686740400-1686740400@glencoveseniorcenter.com
SUMMARY:Chess Club
DESCRIPTION:
URL:https://glencoveseniorcenter.com/event/chess-club/2023-06-14/
CATEGORIES:Activities
END:VEVENT
BEGIN:VEVENT
DTSTART;TZID=America/Chicago:20230614T110000
DTEND;TZID=America/Chicago:20230614T110000
DTSTAMP:20260422T094306
CREATED:20230625T144411Z
LAST-MODIFIED:20230625T144411Z
UID:10000867-1686740400-1686740400@glencoveseniorcenter.com
SUMMARY:Poetry & Creative Writing Club
DESCRIPTION:
URL:https://glencoveseniorcenter.com/event/poetry-creative-writing-club/2023-06-14/
CATEGORIES:Activities
END:VEVENT
BEGIN:VEVENT
DTSTART;TZID=America/Chicago:20230614T100000
DTEND;TZID=America/Chicago:20230614T100000
DTSTAMP:20260422T094306
CREATED:20230625T141431Z
LAST-MODIFIED:20230625T141431Z
UID:10000832-1686736800-1686736800@glencoveseniorcenter.com
SUMMARY:Stretching & Strength Training w/ Nick
DESCRIPTION:
URL:https://glencoveseniorcenter.com/event/stretching-strength-training-w-nick/2023-06-14/
CATEGORIES:Activities
END:VEVENT
BEGIN:VEVENT
DTSTART;TZID=America/Chicago:20230614T090000
DTEND;TZID=America/Chicago:20230614T090000
DTSTAMP:20260422T094306
CREATED:20230625T132402Z
LAST-MODIFIED:20230625T132402Z
UID:10000413-1686733200-1686733200@glencoveseniorcenter.com
SUMMARY:Seniorobics w/ Fran
DESCRIPTION:
URL:https://glencoveseniorcenter.com/event/seniorobics-w-fran-2/2023-06-14/
CATEGORIES:Activities
END:VEVENT
BEGIN:VEVENT
DTSTART;TZID=America/Chicago:20230613T140000
DTEND;TZID=America/Chicago:20230613T140000
DTSTAMP:20260422T094306
CREATED:20230625T141042Z
LAST-MODIFIED:20230625T141042Z
UID:10000828-1686664800-1686664800@glencoveseniorcenter.com
SUMMARY:Ping Pong
DESCRIPTION:
URL:https://glencoveseniorcenter.com/event/ping-pong/2023-06-13/
CATEGORIES:Activities
END:VEVENT
BEGIN:VEVENT
DTSTART;TZID=America/Chicago:20230613T140000
DTEND;TZID=America/Chicago:20230613T140000
DTSTAMP:20260422T094306
CREATED:20230625T140527Z
LAST-MODIFIED:20230625T140742Z
UID:10000818-1686664800-1686664800@glencoveseniorcenter.com
SUMMARY:Bingo
DESCRIPTION:
URL:https://glencoveseniorcenter.com/event/bingo/2023-06-13/
CATEGORIES:Activities
END:VEVENT
BEGIN:VEVENT
DTSTART;TZID=America/Chicago:20230613T130000
DTEND;TZID=America/Chicago:20230613T130000
DTSTAMP:20260422T094306
CREATED:20230625T144229Z
LAST-MODIFIED:20230625T144229Z
UID:10000866-1686661200-1686661200@glencoveseniorcenter.com
SUMMARY:“Getting Back in Shape” Northwell Lecture
DESCRIPTION:
URL:https://glencoveseniorcenter.com/event/getting-back-in-shape-northwell-lecture/
CATEGORIES:Activities
END:VEVENT
BEGIN:VEVENT
DTSTART;TZID=America/Chicago:20230613T130000
DTEND;TZID=America/Chicago:20230613T130000
DTSTAMP:20260422T094306
CREATED:20230625T140150Z
LAST-MODIFIED:20230625T140150Z
UID:10000808-1686661200-1686661200@glencoveseniorcenter.com
SUMMARY:INTRODUCTION TO SPANISH W/ LUCY
DESCRIPTION:
URL:https://glencoveseniorcenter.com/event/introduction-to-spanish-w-lucy/2023-06-13/
CATEGORIES:Activities
END:VEVENT
BEGIN:VEVENT
DTSTART;TZID=America/Chicago:20230613T130000
DTEND;TZID=America/Chicago:20230613T130000
DTSTAMP:20260422T094306
CREATED:20230625T131835Z
LAST-MODIFIED:20230625T131835Z
UID:10000236-1686661200-1686661200@glencoveseniorcenter.com
SUMMARY:Canasta & Mahjong
DESCRIPTION:
URL:https://glencoveseniorcenter.com/event/canasta-mahjong/2023-06-13/
CATEGORIES:Activities
END:VEVENT
BEGIN:VEVENT
DTSTART;TZID=America/Chicago:20230613T110000
DTEND;TZID=America/Chicago:20230613T110000
DTSTAMP:20260422T094306
CREATED:20230625T144202Z
LAST-MODIFIED:20230625T144202Z
UID:10000864-1686654000-1686654000@glencoveseniorcenter.com
SUMMARY:Bereavement with COMHPS
DESCRIPTION:
URL:https://glencoveseniorcenter.com/event/bereavement-with-comhps/2023-06-13/
CATEGORIES:Activities
END:VEVENT
BEGIN:VEVENT
DTSTART;TZID=America/Chicago:20230613T110000
DTEND;TZID=America/Chicago:20230613T110000
DTSTAMP:20260422T094306
CREATED:20230625T140000Z
LAST-MODIFIED:20230625T140000Z
UID:10000804-1686654000-1686654000@glencoveseniorcenter.com
SUMMARY:Total Body Fitness w/ Marvin
DESCRIPTION:
URL:https://glencoveseniorcenter.com/event/total-body-fitness-w-marvin/2023-06-13/
CATEGORIES:Activities
END:VEVENT
BEGIN:VEVENT
DTSTART;TZID=America/Chicago:20230613T110000
DTEND;TZID=America/Chicago:20230613T110000
DTSTAMP:20260422T094306
CREATED:20230625T135611Z
LAST-MODIFIED:20230625T135625Z
UID:10000745-1686654000-1686654000@glencoveseniorcenter.com
SUMMARY:Trivia
DESCRIPTION:
URL:https://glencoveseniorcenter.com/event/trivia/2023-06-13/
CATEGORIES:Activities
END:VEVENT
BEGIN:VEVENT
DTSTART;TZID=America/Chicago:20230613T101500
DTEND;TZID=America/Chicago:20230613T101500
DTSTAMP:20260422T094306
CREATED:20230625T135133Z
LAST-MODIFIED:20230625T135133Z
UID:10000731-1686651300-1686651300@glencoveseniorcenter.com
SUMMARY:Walking Club
DESCRIPTION:
URL:https://glencoveseniorcenter.com/event/walking-club/2023-06-13/
CATEGORIES:Activities
END:VEVENT
BEGIN:VEVENT
DTSTART;TZID=America/Chicago:20230613T100000
DTEND;TZID=America/Chicago:20230613T100000
DTSTAMP:20260422T094306
CREATED:20230625T144029Z
LAST-MODIFIED:20230625T144029Z
UID:10000861-1686650400-1686650400@glencoveseniorcenter.com
SUMMARY:Painting & Drawing w/ Chuck
DESCRIPTION:
URL:https://glencoveseniorcenter.com/event/painting-drawing-w-chuck/2023-06-13/
CATEGORIES:Activities
END:VEVENT
BEGIN:VEVENT
DTSTART;TZID=America/Chicago:20230612T140000
DTEND;TZID=America/Chicago:20230612T140000
DTSTAMP:20260422T094306
CREATED:20230625T140946Z
LAST-MODIFIED:20230625T140946Z
UID:10000825-1686578400-1686578400@glencoveseniorcenter.com
SUMMARY:Karaoke
DESCRIPTION:
URL:https://glencoveseniorcenter.com/event/karaoke/2023-06-12/
CATEGORIES:Activities
END:VEVENT
BEGIN:VEVENT
DTSTART;TZID=America/Chicago:20230612T140000
DTEND;TZID=America/Chicago:20230612T140000
DTSTAMP:20260422T094306
CREATED:20230625T140527Z
LAST-MODIFIED:20230625T140742Z
UID:10000817-1686578400-1686578400@glencoveseniorcenter.com
SUMMARY:Bingo
DESCRIPTION:
URL:https://glencoveseniorcenter.com/event/bingo/2023-06-12/
CATEGORIES:Activities
END:VEVENT
BEGIN:VEVENT
DTSTART;TZID=America/Chicago:20230612T140000
DTEND;TZID=America/Chicago:20230612T140000
DTSTAMP:20260422T094306
CREATED:20230625T133209Z
LAST-MODIFIED:20230625T133209Z
UID:10000597-1686578400-1686578400@glencoveseniorcenter.com
SUMMARY:Tai Chi w/ Spencer
DESCRIPTION:
URL:https://glencoveseniorcenter.com/event/tai-chi-w-spencer-2/2023-06-12/
CATEGORIES:Activities
END:VEVENT
BEGIN:VEVENT
DTSTART;TZID=America/Chicago:20230612T131500
DTEND;TZID=America/Chicago:20230612T131500
DTSTAMP:20260422T094306
CREATED:20230625T132046Z
LAST-MODIFIED:20230625T132046Z
UID:10000296-1686575700-1686575700@glencoveseniorcenter.com
SUMMARY:Food Shopping
DESCRIPTION:
URL:https://glencoveseniorcenter.com/event/food-shopping-2/2023-06-12/
CATEGORIES:Activities
END:VEVENT
BEGIN:VEVENT
DTSTART;TZID=America/Chicago:20230612T130000
DTEND;TZID=America/Chicago:20230612T130000
DTSTAMP:20260422T094306
CREATED:20230625T143724Z
LAST-MODIFIED:20230625T143724Z
UID:10000859-1686574800-1686574800@glencoveseniorcenter.com
SUMMARY:Nutrition Lecture w/Cornell Cooperative
DESCRIPTION:
URL:https://glencoveseniorcenter.com/event/nutrition-lecture-w-cornell-cooperative/
CATEGORIES:Activities
END:VEVENT
BEGIN:VEVENT
DTSTART;TZID=America/Chicago:20230612T130000
DTEND;TZID=America/Chicago:20230612T130000
DTSTAMP:20260422T094306
CREATED:20230625T133621Z
LAST-MODIFIED:20230625T133621Z
UID:10000608-1686574800-1686574800@glencoveseniorcenter.com
SUMMARY:Bingo\, Bridge\, Mahjong\, & Canasta
DESCRIPTION:
URL:https://glencoveseniorcenter.com/event/bingo-bridge-mahjong-canasta/2023-06-12/
CATEGORIES:Activities
END:VEVENT
END:VCALENDAR