BEGIN:VCALENDAR
VERSION:2.0
PRODID:-//Glencove Senior center - ECPv6.15.17.1//NONSGML v1.0//EN
CALSCALE:GREGORIAN
METHOD:PUBLISH
X-WR-CALNAME:Glencove Senior center
X-ORIGINAL-URL:https://glencoveseniorcenter.com
X-WR-CALDESC:Events for Glencove Senior center
REFRESH-INTERVAL;VALUE=DURATION:PT1H
X-Robots-Tag:noindex
X-PUBLISHED-TTL:PT1H
BEGIN:VTIMEZONE
TZID:America/Chicago
BEGIN:DAYLIGHT
TZOFFSETFROM:-0600
TZOFFSETTO:-0500
TZNAME:CDT
DTSTART:20220313T080000
END:DAYLIGHT
BEGIN:STANDARD
TZOFFSETFROM:-0500
TZOFFSETTO:-0600
TZNAME:CST
DTSTART:20221106T070000
END:STANDARD
BEGIN:DAYLIGHT
TZOFFSETFROM:-0600
TZOFFSETTO:-0500
TZNAME:CDT
DTSTART:20230312T080000
END:DAYLIGHT
BEGIN:STANDARD
TZOFFSETFROM:-0500
TZOFFSETTO:-0600
TZNAME:CST
DTSTART:20231105T070000
END:STANDARD
BEGIN:DAYLIGHT
TZOFFSETFROM:-0600
TZOFFSETTO:-0500
TZNAME:CDT
DTSTART:20240310T080000
END:DAYLIGHT
BEGIN:STANDARD
TZOFFSETFROM:-0500
TZOFFSETTO:-0600
TZNAME:CST
DTSTART:20241103T070000
END:STANDARD
END:VTIMEZONE
BEGIN:VEVENT
DTSTART;TZID=America/Chicago:20230609T130000
DTEND;TZID=America/Chicago:20230609T130000
DTSTAMP:20260422T143020
CREATED:20230625T143221Z
LAST-MODIFIED:20230625T143221Z
UID:10000854-1686315600-1686315600@glencoveseniorcenter.com
SUMMARY:Music w/ Michelle
DESCRIPTION:
URL:https://glencoveseniorcenter.com/event/music-w-michelle/
CATEGORIES:Activities
END:VEVENT
BEGIN:VEVENT
DTSTART;TZID=America/Chicago:20230609T130000
DTEND;TZID=America/Chicago:20230609T130000
DTSTAMP:20260422T143020
CREATED:20230625T140527Z
LAST-MODIFIED:20230625T140742Z
UID:10000812-1686315600-1686315600@glencoveseniorcenter.com
SUMMARY:Bingo
DESCRIPTION:
URL:https://glencoveseniorcenter.com/event/bingo/2023-06-09/
CATEGORIES:Activities
END:VEVENT
BEGIN:VEVENT
DTSTART;TZID=America/Chicago:20230609T130000
DTEND;TZID=America/Chicago:20230609T130000
DTSTAMP:20260422T143020
CREATED:20230625T131835Z
LAST-MODIFIED:20230625T131835Z
UID:10000235-1686315600-1686315600@glencoveseniorcenter.com
SUMMARY:Canasta & Mahjong
DESCRIPTION:
URL:https://glencoveseniorcenter.com/event/canasta-mahjong/2023-06-09/
CATEGORIES:Activities
END:VEVENT
BEGIN:VEVENT
DTSTART;TZID=America/Chicago:20230609T110000
DTEND;TZID=America/Chicago:20230609T110000
DTSTAMP:20260422T143020
CREATED:20230625T132712Z
LAST-MODIFIED:20230625T132712Z
UID:10000477-1686308400-1686308400@glencoveseniorcenter.com
SUMMARY:Stretching & Meditation w/ Nick
DESCRIPTION:
URL:https://glencoveseniorcenter.com/event/stretching-meditation-w-nick/2023-06-09/
CATEGORIES:Activities
END:VEVENT
BEGIN:VEVENT
DTSTART;TZID=America/Chicago:20230609T100000
DTEND;TZID=America/Chicago:20230609T100000
DTSTAMP:20260422T143020
CREATED:20230625T143023Z
LAST-MODIFIED:20230625T143023Z
UID:10000850-1686304800-1686304800@glencoveseniorcenter.com
SUMMARY:FUNday W/ Eric
DESCRIPTION:
URL:https://glencoveseniorcenter.com/event/funday-w-eric/2023-06-09/
CATEGORIES:Activities
END:VEVENT
BEGIN:VEVENT
DTSTART;TZID=America/Chicago:20230609T090000
DTEND;TZID=America/Chicago:20230609T090000
DTSTAMP:20260422T143020
CREATED:20230625T132318Z
LAST-MODIFIED:20230625T132318Z
UID:10000357-1686301200-1686301200@glencoveseniorcenter.com
SUMMARY:Seniorobics w/ Fran
DESCRIPTION:
URL:https://glencoveseniorcenter.com/event/seniorobics-w-fran/2023-06-09/
CATEGORIES:Activities
END:VEVENT
BEGIN:VEVENT
DTSTART;TZID=America/Chicago:20230608T140000
DTEND;TZID=America/Chicago:20230608T140000
DTSTAMP:20260422T143020
CREATED:20230625T132203Z
LAST-MODIFIED:20230625T142625Z
UID:10000300-1686232800-1686232800@glencoveseniorcenter.com
SUMMARY:Billiards Club
DESCRIPTION:
URL:https://glencoveseniorcenter.com/event/billiards-club/2023-06-08/
CATEGORIES:Activities
END:VEVENT
BEGIN:VEVENT
DTSTART;TZID=America/Chicago:20230608T131500
DTEND;TZID=America/Chicago:20230608T131500
DTSTAMP:20260422T143020
CREATED:20230625T131948Z
LAST-MODIFIED:20230625T131948Z
UID:10000239-1686230100-1686230100@glencoveseniorcenter.com
SUMMARY:Food Shopping
DESCRIPTION:
URL:https://glencoveseniorcenter.com/event/food-shopping/2023-06-08/
CATEGORIES:Activities
END:VEVENT
BEGIN:VEVENT
DTSTART;TZID=America/Chicago:20230608T130000
DTEND;TZID=America/Chicago:20230608T130000
DTSTAMP:20260422T143020
CREATED:20230625T142236Z
LAST-MODIFIED:20230625T142236Z
UID:10000848-1686229200-1686229200@glencoveseniorcenter.com
SUMMARY:MOVIE
DESCRIPTION:
URL:https://glencoveseniorcenter.com/event/movie/2023-06-08/
CATEGORIES:Activities
END:VEVENT
BEGIN:VEVENT
DTSTART;TZID=America/Chicago:20230608T130000
DTEND;TZID=America/Chicago:20230608T130000
DTSTAMP:20260422T143020
CREATED:20230625T131835Z
LAST-MODIFIED:20230625T131835Z
UID:10000234-1686229200-1686229200@glencoveseniorcenter.com
SUMMARY:Canasta & Mahjong
DESCRIPTION:
URL:https://glencoveseniorcenter.com/event/canasta-mahjong/2023-06-08/
CATEGORIES:Activities
END:VEVENT
BEGIN:VEVENT
DTSTART;TZID=America/Chicago:20230608T113000
DTEND;TZID=America/Chicago:20230608T113000
DTSTAMP:20260422T143020
CREATED:20230625T142204Z
LAST-MODIFIED:20230625T142204Z
UID:10000847-1686223800-1686223800@glencoveseniorcenter.com
SUMMARY:Drum Circle w/ Eric
DESCRIPTION:
URL:https://glencoveseniorcenter.com/event/drum-circle-w-eric/
CATEGORIES:Activities
END:VEVENT
BEGIN:VEVENT
DTSTART;TZID=America/Chicago:20230608T110000
DTEND;TZID=America/Chicago:20230608T110000
DTSTAMP:20260422T143020
CREATED:20230625T142133Z
LAST-MODIFIED:20230625T142133Z
UID:10000846-1686222000-1686222000@glencoveseniorcenter.com
SUMMARY:American Legion Meeting
DESCRIPTION:
URL:https://glencoveseniorcenter.com/event/american-legion-meeting/
CATEGORIES:Activities
END:VEVENT
BEGIN:VEVENT
DTSTART;TZID=America/Chicago:20230608T103000
DTEND;TZID=America/Chicago:20230608T103000
DTSTAMP:20260422T143020
CREATED:20230625T131410Z
LAST-MODIFIED:20230625T131410Z
UID:10000170-1686220200-1686220200@glencoveseniorcenter.com
SUMMARY:Exercise w/ YMCA
DESCRIPTION:
URL:https://glencoveseniorcenter.com/event/exercise-w-ymca/2023-06-08/
CATEGORIES:Activities
END:VEVENT
BEGIN:VEVENT
DTSTART;TZID=America/Chicago:20230608T100000
DTEND;TZID=America/Chicago:20230608T100000
DTSTAMP:20260422T143020
CREATED:20230625T130243Z
LAST-MODIFIED:20230625T135430Z
UID:10000112-1686218400-1686218400@glencoveseniorcenter.com
SUMMARY:Card & Board Games
DESCRIPTION:
URL:https://glencoveseniorcenter.com/event/card-board-games/2023-06-08/
CATEGORIES:Activities
END:VEVENT
BEGIN:VEVENT
DTSTART;TZID=America/Chicago:20230607T150000
DTEND;TZID=America/Chicago:20230607T160000
DTSTAMP:20260422T143020
CREATED:20230625T142019Z
LAST-MODIFIED:20230625T142019Z
UID:10000844-1686150000-1686153600@glencoveseniorcenter.com
SUMMARY:INTRODUCTION TO PICKLEBALL W/ ERIC AT STANCO PARK (Need to register)
DESCRIPTION:
URL:https://glencoveseniorcenter.com/event/introduction-to-pickleball-w-eric-at-stanco-park-need-to-register/2023-06-07/
CATEGORIES:Activities
END:VEVENT
BEGIN:VEVENT
DTSTART;TZID=America/Chicago:20230607T140000
DTEND;TZID=America/Chicago:20230607T140000
DTSTAMP:20260422T143020
CREATED:20230625T141909Z
LAST-MODIFIED:20230625T141909Z
UID:10000840-1686146400-1686146400@glencoveseniorcenter.com
SUMMARY:Chair Yoga w/ Patty
DESCRIPTION:
URL:https://glencoveseniorcenter.com/event/chair-yoga-w-patty/2023-06-07/
CATEGORIES:Activities
END:VEVENT
BEGIN:VEVENT
DTSTART;TZID=America/Chicago:20230607T140000
DTEND;TZID=America/Chicago:20230607T140000
DTSTAMP:20260422T143020
CREATED:20230625T140527Z
LAST-MODIFIED:20230625T140742Z
UID:10000816-1686146400-1686146400@glencoveseniorcenter.com
SUMMARY:Bingo
DESCRIPTION:
URL:https://glencoveseniorcenter.com/event/bingo/2023-06-07/
CATEGORIES:Activities
END:VEVENT
BEGIN:VEVENT
DTSTART;TZID=America/Chicago:20230607T130000
DTEND;TZID=America/Chicago:20230607T130000
DTSTAMP:20260422T143020
CREATED:20230625T141800Z
LAST-MODIFIED:20230625T141800Z
UID:10000839-1686142800-1686142800@glencoveseniorcenter.com
SUMMARY:Bridge\, Canasta\, & Mahjong
DESCRIPTION:
URL:https://glencoveseniorcenter.com/event/bridge-canasta-mahjong/
CATEGORIES:Activities
END:VEVENT
BEGIN:VEVENT
DTSTART;TZID=America/Chicago:20230607T130000
DTEND;TZID=America/Chicago:20230607T130000
DTSTAMP:20260422T143020
CREATED:20230625T141720Z
LAST-MODIFIED:20230625T141720Z
UID:10000838-1686142800-1686142800@glencoveseniorcenter.com
SUMMARY:Medicare & Medicaid Update Lecture
DESCRIPTION:
URL:https://glencoveseniorcenter.com/event/medicare-medicaid-update-lecture/
CATEGORIES:Activities
END:VEVENT
BEGIN:VEVENT
DTSTART;TZID=America/Chicago:20230607T110000
DTEND;TZID=America/Chicago:20230607T110000
DTSTAMP:20260422T143020
CREATED:20230625T141535Z
LAST-MODIFIED:20230625T141535Z
UID:10000836-1686135600-1686135600@glencoveseniorcenter.com
SUMMARY:Chess & Poetry/Creative Writing Club
DESCRIPTION:
URL:https://glencoveseniorcenter.com/event/chess-poetry-creative-writing-club/2023-06-07/
CATEGORIES:Activities
END:VEVENT
BEGIN:VEVENT
DTSTART;TZID=America/Chicago:20230607T110000
DTEND;TZID=America/Chicago:20230607T110000
DTSTAMP:20260422T143020
CREATED:20230625T141458Z
LAST-MODIFIED:20230625T141458Z
UID:10000835-1686135600-1686135600@glencoveseniorcenter.com
SUMMARY:Poker Club w/ Eric
DESCRIPTION:
URL:https://glencoveseniorcenter.com/event/poker-club-w-eric/
CATEGORIES:Activities
END:VEVENT
BEGIN:VEVENT
DTSTART;TZID=America/Chicago:20230607T100000
DTEND;TZID=America/Chicago:20230607T100000
DTSTAMP:20260422T143020
CREATED:20230625T141431Z
LAST-MODIFIED:20230625T141431Z
UID:10000831-1686132000-1686132000@glencoveseniorcenter.com
SUMMARY:Stretching & Strength Training w/ Nick
DESCRIPTION:
URL:https://glencoveseniorcenter.com/event/stretching-strength-training-w-nick/2023-06-07/
CATEGORIES:Activities
END:VEVENT
BEGIN:VEVENT
DTSTART;TZID=America/Chicago:20230607T090000
DTEND;TZID=America/Chicago:20230607T090000
DTSTAMP:20260422T143020
CREATED:20230625T141240Z
LAST-MODIFIED:20230625T141240Z
UID:10000829-1686128400-1686128400@glencoveseniorcenter.com
SUMMARY:Seniorobics w/ Fran\, Crocheting
DESCRIPTION:
URL:https://glencoveseniorcenter.com/event/seniorobics-w-fran-crocheting/2023-06-07/
CATEGORIES:Activities
END:VEVENT
BEGIN:VEVENT
DTSTART;TZID=America/Chicago:20230606T140000
DTEND;TZID=America/Chicago:20230606T140000
DTSTAMP:20260422T143020
CREATED:20230625T141042Z
LAST-MODIFIED:20230625T141042Z
UID:10000827-1686060000-1686060000@glencoveseniorcenter.com
SUMMARY:Ping Pong
DESCRIPTION:
URL:https://glencoveseniorcenter.com/event/ping-pong/2023-06-06/
CATEGORIES:Activities
END:VEVENT
BEGIN:VEVENT
DTSTART;TZID=America/Chicago:20230606T130000
DTEND;TZID=America/Chicago:20230606T130000
DTSTAMP:20260422T143020
CREATED:20230625T140946Z
LAST-MODIFIED:20230625T140946Z
UID:10000824-1686056400-1686056400@glencoveseniorcenter.com
SUMMARY:Karaoke
DESCRIPTION:
URL:https://glencoveseniorcenter.com/event/karaoke/2023-06-06/
CATEGORIES:Activities
END:VEVENT
BEGIN:VEVENT
DTSTART;TZID=America/Chicago:20230606T130000
DTEND;TZID=America/Chicago:20230606T130000
DTSTAMP:20260422T143020
CREATED:20230625T140831Z
LAST-MODIFIED:20230625T140831Z
UID:10000822-1686056400-1686056400@glencoveseniorcenter.com
SUMMARY:Foot Check-Up w/Dr. Grossman Podiatrist
DESCRIPTION:
URL:https://glencoveseniorcenter.com/event/foot-check-up-w-dr-grossman-podiatrist/2023-06-06/
CATEGORIES:Activities
END:VEVENT
BEGIN:VEVENT
DTSTART;TZID=America/Chicago:20230606T130000
DTEND;TZID=America/Chicago:20230606T130000
DTSTAMP:20260422T143020
CREATED:20230625T140527Z
LAST-MODIFIED:20230625T140742Z
UID:10000811-1686056400-1686056400@glencoveseniorcenter.com
SUMMARY:Bingo
DESCRIPTION:
URL:https://glencoveseniorcenter.com/event/bingo/2023-06-06/
CATEGORIES:Activities
END:VEVENT
BEGIN:VEVENT
DTSTART;TZID=America/Chicago:20230606T130000
DTEND;TZID=America/Chicago:20230606T130000
DTSTAMP:20260422T143020
CREATED:20230625T140150Z
LAST-MODIFIED:20230625T140150Z
UID:10000807-1686056400-1686056400@glencoveseniorcenter.com
SUMMARY:INTRODUCTION TO SPANISH W/ LUCY
DESCRIPTION:
URL:https://glencoveseniorcenter.com/event/introduction-to-spanish-w-lucy/2023-06-06/
CATEGORIES:Activities
END:VEVENT
BEGIN:VEVENT
DTSTART;TZID=America/Chicago:20230606T130000
DTEND;TZID=America/Chicago:20230606T130000
DTSTAMP:20260422T143020
CREATED:20230625T131835Z
LAST-MODIFIED:20230625T131835Z
UID:10000233-1686056400-1686056400@glencoveseniorcenter.com
SUMMARY:Canasta & Mahjong
DESCRIPTION:
URL:https://glencoveseniorcenter.com/event/canasta-mahjong/2023-06-06/
CATEGORIES:Activities
END:VEVENT
BEGIN:VEVENT
DTSTART;TZID=America/Chicago:20230606T110000
DTEND;TZID=America/Chicago:20230606T110000
DTSTAMP:20260422T143020
CREATED:20230625T140000Z
LAST-MODIFIED:20230625T140000Z
UID:10000803-1686049200-1686049200@glencoveseniorcenter.com
SUMMARY:Total Body Fitness w/ Marvin
DESCRIPTION:
URL:https://glencoveseniorcenter.com/event/total-body-fitness-w-marvin/2023-06-06/
CATEGORIES:Activities
END:VEVENT
END:VCALENDAR